BEGIN:VCALENDAR
VERSION:2.0
PRODID:-//Slovenský zápasnícky zväz - ECPv6.15.16//NONSGML v1.0//EN
CALSCALE:GREGORIAN
METHOD:PUBLISH
X-ORIGINAL-URL:https://www.slovenskezapasenie.sk
X-WR-CALDESC:Udalosti pre Slovenský zápasnícky zväz
REFRESH-INTERVAL;VALUE=DURATION:PT1H
X-Robots-Tag:noindex
X-PUBLISHED-TTL:PT1H
BEGIN:VTIMEZONE
TZID:Europe/Helsinki
BEGIN:DAYLIGHT
TZOFFSETFROM:+0200
TZOFFSETTO:+0300
TZNAME:EEST
DTSTART:20230326T010000
END:DAYLIGHT
BEGIN:STANDARD
TZOFFSETFROM:+0300
TZOFFSETTO:+0200
TZNAME:EET
DTSTART:20231029T010000
END:STANDARD
BEGIN:DAYLIGHT
TZOFFSETFROM:+0200
TZOFFSETTO:+0300
TZNAME:EEST
DTSTART:20240331T010000
END:DAYLIGHT
BEGIN:STANDARD
TZOFFSETFROM:+0300
TZOFFSETTO:+0200
TZNAME:EET
DTSTART:20241027T010000
END:STANDARD
BEGIN:DAYLIGHT
TZOFFSETFROM:+0200
TZOFFSETTO:+0300
TZNAME:EEST
DTSTART:20250330T010000
END:DAYLIGHT
BEGIN:STANDARD
TZOFFSETFROM:+0300
TZOFFSETTO:+0200
TZNAME:EET
DTSTART:20251026T010000
END:STANDARD
END:VTIMEZONE
BEGIN:VEVENT
DTSTART;TZID=Europe/Helsinki:20240515T080000
DTEND;TZID=Europe/Helsinki:20240518T170000
DTSTAMP:20260425T192529
CREATED:20240411T092821Z
LAST-MODIFIED:20240529T094902Z
UID:17737-1715760000-1716051600@www.slovenskezapasenie.sk
SUMMARY:Majstrovstvá Európy U15 (Loutraki\, Grécko)
DESCRIPTION:
URL:https://www.slovenskezapasenie.sk/event/majstrovstva-europy-u15-loutraki-grecko/
CATEGORIES:Záhraničné
END:VEVENT
BEGIN:VEVENT
DTSTART;TZID=Europe/Helsinki:20240518T080000
DTEND;TZID=Europe/Helsinki:20240518T170000
DTSTAMP:20260425T192529
CREATED:20240607T105408Z
LAST-MODIFIED:20240607T105408Z
UID:17849-1716019200-1716051600@www.slovenskezapasenie.sk
SUMMARY:SLOVENSKÁ ŽIACKA LIGA – VÝCHOD – 2. KOLO (Moldava nad Bodvou)
DESCRIPTION:
URL:https://www.slovenskezapasenie.sk/event/slovenska-ziacka-liga-vychod-2-kolo-moldava-nad-bodvou/
CATEGORIES:Domáce
END:VEVENT
BEGIN:VEVENT
DTSTART;TZID=Europe/Helsinki:20240518T080000
DTEND;TZID=Europe/Helsinki:20240518T170000
DTSTAMP:20260425T192529
CREATED:20240607T110504Z
LAST-MODIFIED:20240607T110504Z
UID:17862-1716019200-1716051600@www.slovenskezapasenie.sk
SUMMARY:SLOVENSKÁ ŽIACKA LIGA – ZÁPAD – 2. KOLO (Bánovce nad Bebravou)
DESCRIPTION:
URL:https://www.slovenskezapasenie.sk/event/slovenska-ziacka-liga-zapad-2-kolo-banovce-nad-bebravou/
CATEGORIES:Domáce
END:VEVENT
BEGIN:VEVENT
DTSTART;TZID=Europe/Helsinki:20240520T080000
DTEND;TZID=Europe/Helsinki:20240526T170000
DTSTAMP:20260425T192529
CREATED:20240411T092732Z
LAST-MODIFIED:20240529T095100Z
UID:17734-1716192000-1716742800@www.slovenskezapasenie.sk
SUMMARY:Majstrovstvá Európy U23 (Baku\, Azerbajdžan)
DESCRIPTION:
URL:https://www.slovenskezapasenie.sk/event/majstrovstva-europy-u23-baku-azerbajdzan/
CATEGORIES:Záhraničné
END:VEVENT
BEGIN:VEVENT
DTSTART;TZID=Europe/Helsinki:20240525T080000
DTEND;TZID=Europe/Helsinki:20240525T170000
DTSTAMP:20260425T192529
CREATED:20240607T104750Z
LAST-MODIFIED:20240607T104750Z
UID:17833-1716624000-1716656400@www.slovenskezapasenie.sk
SUMMARY:1. ročník MT v zápasení v.š. „ O pohár starostu obce Zemplínske Hámre“
DESCRIPTION:
URL:https://www.slovenskezapasenie.sk/event/1-rocnik-mt-v-zapaseni-v-s-o-pohar-starostu-obce-zemplinske-hamre/
CATEGORIES:Domáce
END:VEVENT
BEGIN:VEVENT
DTSTART;TZID=Europe/Helsinki:20240606T080000
DTEND;TZID=Europe/Helsinki:20240609T170000
DTSTAMP:20260425T192529
CREATED:20240607T104916Z
LAST-MODIFIED:20240607T104916Z
UID:17837-1717660800-1717952400@www.slovenskezapasenie.sk
SUMMARY:Senior Ranking Series (Budapest\, Maďarsko)
DESCRIPTION:
URL:https://www.slovenskezapasenie.sk/event/senior-ranking-series-budapest-madarsko/
CATEGORIES:Záhraničné
END:VEVENT
BEGIN:VEVENT
DTSTART;TZID=Europe/Helsinki:20240607T080000
DTEND;TZID=Europe/Helsinki:20240608T170000
DTSTAMP:20260425T192529
CREATED:20240520T075412Z
LAST-MODIFIED:20240626T201119Z
UID:17801-1717747200-1717866000@www.slovenskezapasenie.sk
SUMMARY:VII. ročník MT mládeže v zápasení v.š.\, III. ročník Memoriál Jaroslava Šelestiaka st.
DESCRIPTION:
URL:https://www.slovenskezapasenie.sk/event/vii-rocnik-mt-mladeze-v-zapaseni-v-s-iii-rocnik-memorial-jaroslava-selestiaka-st/
CATEGORIES:Domáce
END:VEVENT
BEGIN:VEVENT
DTSTART;TZID=Europe/Helsinki:20240607T080000
DTEND;TZID=Europe/Helsinki:20240608T170000
DTSTAMP:20260425T192529
CREATED:20240607T110821Z
LAST-MODIFIED:20241118T141559Z
UID:17870-1717747200-1717866000@www.slovenskezapasenie.sk
SUMMARY:VII. ročník MT O pohár riaditeľky Gymnázia Štefana Moysesa v Moldave nad Bodvou
DESCRIPTION:
URL:https://www.slovenskezapasenie.sk/event/vii-rocnik-mt-o-pohar-riaditelky-gymnazia-stefana-moysesa-v-moldave-nad-bodvou/
CATEGORIES:Domáce
ATTACH;FMTTYPE=image/jpeg:https://www.slovenskezapasenie.sk/wp-content/uploads/2024/06/Poster-MT-O-Pohar-riaditelky-Gymnazia-S.-Moysesa-2024.jpg
END:VEVENT
BEGIN:VEVENT
DTSTART;TZID=Europe/Helsinki:20240612T080000
DTEND;TZID=Europe/Helsinki:20240612T170000
DTSTAMP:20260425T192529
CREATED:20240607T105456Z
LAST-MODIFIED:20240607T105456Z
UID:17853-1718179200-1718211600@www.slovenskezapasenie.sk
SUMMARY:Mini wrestling session 2. kolo (Košice)
DESCRIPTION:
URL:https://www.slovenskezapasenie.sk/event/mini-wrestling-session-2-kolo-kosice/
CATEGORIES:Domáce
END:VEVENT
BEGIN:VEVENT
DTSTART;TZID=Europe/Helsinki:20240615T080000
DTEND;TZID=Europe/Helsinki:20240615T170000
DTSTAMP:20260425T192529
CREATED:20240515T063311Z
LAST-MODIFIED:20240515T063311Z
UID:17792-1718438400-1718470800@www.slovenskezapasenie.sk
SUMMARY:XXI. ročník Memoriálu J. Klepca
DESCRIPTION:
URL:https://www.slovenskezapasenie.sk/event/xxi-rocnik-memorialu-j-klepca/
CATEGORIES:Domáce
END:VEVENT
BEGIN:VEVENT
DTSTART;TZID=Europe/Helsinki:20240621T080000
DTEND;TZID=Europe/Helsinki:20240621T170000
DTSTAMP:20260425T192529
CREATED:20240612T191535Z
LAST-MODIFIED:20241016T215706Z
UID:17891-1718956800-1718989200@www.slovenskezapasenie.sk
SUMMARY:Majstrovstvá Gemera 1.kolo (Rimavská Sobota)
DESCRIPTION:
URL:https://www.slovenskezapasenie.sk/event/majstrovstva-gemera-1-kolo-rimavska-sobota/
CATEGORIES:Domáce
END:VEVENT
BEGIN:VEVENT
DTSTART;TZID=Europe/Helsinki:20240622T080000
DTEND;TZID=Europe/Helsinki:20240622T170000
DTSTAMP:20260425T192529
CREATED:20240612T191628Z
LAST-MODIFIED:20241016T215838Z
UID:17895-1719043200-1719075600@www.slovenskezapasenie.sk
SUMMARY:Majstrovstvá Gemera 2.kolo (Rimavská Sobota)
DESCRIPTION:
URL:https://www.slovenskezapasenie.sk/event/majstrovstva-gemera-2-kolo-rimavska-sobota/
CATEGORIES:Domáce
END:VEVENT
BEGIN:VEVENT
DTSTART;TZID=Europe/Helsinki:20240622T080000
DTEND;TZID=Europe/Helsinki:20240622T170000
DTSTAMP:20260425T192529
CREATED:20240626T200249Z
LAST-MODIFIED:20240626T200249Z
UID:17918-1719043200-1719075600@www.slovenskezapasenie.sk
SUMMARY:4. ročník O pohár mesta Nitra
DESCRIPTION:
URL:https://www.slovenskezapasenie.sk/event/4-rocnik-o-pohar-mesta-nitra/
CATEGORIES:Domáce
END:VEVENT
BEGIN:VEVENT
DTSTART;TZID=Europe/Helsinki:20240624T080000
DTEND;TZID=Europe/Helsinki:20240707T170000
DTSTAMP:20260425T192529
CREATED:20240607T111323Z
LAST-MODIFIED:20240902T152144Z
UID:17878-1719216000-1720371600@www.slovenskezapasenie.sk
SUMMARY:Majstrovstvá Európy U17 & U20 (Novi Sad\, Srbsko)
DESCRIPTION:
URL:https://www.slovenskezapasenie.sk/event/majstrovstva-europy-u17-u20-novi-sad-srbsko/
CATEGORIES:Záhraničné
END:VEVENT
BEGIN:VEVENT
DTSTART;TZID=Europe/Helsinki:20240628T080000
DTEND;TZID=Europe/Helsinki:20240629T170000
DTSTAMP:20260425T192529
CREATED:20240607T105246Z
LAST-MODIFIED:20241016T220038Z
UID:17846-1719561600-1719680400@www.slovenskezapasenie.sk
SUMMARY:Veľká cena Žitného ostrova – gr.š. (Dunajská Streda)
DESCRIPTION:
URL:https://www.slovenskezapasenie.sk/event/velka-cena-zitneho-ostrova-gr-s-dunajska-streda/
CATEGORIES:Domáce
END:VEVENT
BEGIN:VEVENT
DTSTART;TZID=Europe/Helsinki:20240721T080000
DTEND;TZID=Europe/Helsinki:20240721T170000
DTSTAMP:20260425T192529
CREATED:20240902T152425Z
LAST-MODIFIED:20240902T152425Z
UID:18012-1721548800-1721581200@www.slovenskezapasenie.sk
SUMMARY:IV. kolo putovný pohár (Svätý Peter)
DESCRIPTION:
URL:https://www.slovenskezapasenie.sk/event/iv-kolo-putovny-pohar-svaty-peter/
CATEGORIES:Domáce
END:VEVENT
BEGIN:VEVENT
DTSTART;TZID=Europe/Helsinki:20240803T080000
DTEND;TZID=Europe/Helsinki:20240803T170000
DTSTAMP:20260425T192529
CREATED:20240902T152341Z
LAST-MODIFIED:20240902T152341Z
UID:18009-1722672000-1722704400@www.slovenskezapasenie.sk
SUMMARY:V. kolo putovný pohár (Komárno)
DESCRIPTION:
URL:https://www.slovenskezapasenie.sk/event/v-kolo-putovny-pohar-komarno/
CATEGORIES:Domáce
END:VEVENT
BEGIN:VEVENT
DTSTART;TZID=Europe/Helsinki:20240805T080000
DTEND;TZID=Europe/Helsinki:20240811T170000
DTSTAMP:20260425T192529
CREATED:20240607T111440Z
LAST-MODIFIED:20240819T135118Z
UID:17881-1722844800-1723395600@www.slovenskezapasenie.sk
SUMMARY:Olympijské hry Paríž 2024
DESCRIPTION:
URL:https://www.slovenskezapasenie.sk/event/olympijske-hry-pariz-2024/
CATEGORIES:Záhraničné
END:VEVENT
BEGIN:VEVENT
DTSTART;TZID=Europe/Helsinki:20240806T080000
DTEND;TZID=Europe/Helsinki:20240806T170000
DTSTAMP:20260425T192529
CREATED:20240902T152601Z
LAST-MODIFIED:20240902T152601Z
UID:18015-1722931200-1722963600@www.slovenskezapasenie.sk
SUMMARY:III. kolo putovný pohár (Komárno)
DESCRIPTION:
URL:https://www.slovenskezapasenie.sk/event/iii-kolo-putovny-pohar-komarno/
CATEGORIES:Domáce
END:VEVENT
BEGIN:VEVENT
DTSTART;TZID=Europe/Helsinki:20240818T080000
DTEND;TZID=Europe/Helsinki:20240818T170000
DTSTAMP:20260425T192529
CREATED:20240827T072116Z
LAST-MODIFIED:20240827T072153Z
UID:17974-1723968000-1724000400@www.slovenskezapasenie.sk
SUMMARY:Thermal Cup 2024 -  Medzinárodný turnaj v zápasení voľným štýlom  1.kolo
DESCRIPTION:
URL:https://www.slovenskezapasenie.sk/event/thermal-cup-2024-medzinarodny-turnaj-v-zapaseni-volnym-stylom-1-kolo/
CATEGORIES:Domáce
END:VEVENT
BEGIN:VEVENT
DTSTART;TZID=Europe/Helsinki:20240819T080000
DTEND;TZID=Europe/Helsinki:20240825T170000
DTSTAMP:20260425T192529
CREATED:20240607T111544Z
LAST-MODIFIED:20240902T152220Z
UID:17884-1724054400-1724605200@www.slovenskezapasenie.sk
SUMMARY:Majstrovstvá sveta U17 (Amman\, Jordánsko)
DESCRIPTION:
URL:https://www.slovenskezapasenie.sk/event/majstrovstva-sveta-u17-amman-jordansko/
CATEGORIES:Záhraničné
END:VEVENT
BEGIN:VEVENT
DTSTART;TZID=Europe/Helsinki:20240823T080000
DTEND;TZID=Europe/Helsinki:20240823T170000
DTSTAMP:20260425T192529
CREATED:20240827T072247Z
LAST-MODIFIED:20240827T072247Z
UID:17980-1724400000-1724432400@www.slovenskezapasenie.sk
SUMMARY:Thermal Cup 2024 -  Medzinárodný turnaj v zápasení voľným štýlom  2.kolo
DESCRIPTION:
URL:https://www.slovenskezapasenie.sk/event/thermal-cup-2024-medzinarodny-turnaj-v-zapaseni-volnym-stylom-2-kolo/
CATEGORIES:Domáce
END:VEVENT
BEGIN:VEVENT
DTSTART;TZID=Europe/Helsinki:20240902T080000
DTEND;TZID=Europe/Helsinki:20240908T170000
DTSTAMP:20260425T192529
CREATED:20240607T111715Z
LAST-MODIFIED:20240909T090226Z
UID:17888-1725264000-1725814800@www.slovenskezapasenie.sk
SUMMARY:Majstrovstvá sveta U20 (Pontevedra\, Španielsko)
DESCRIPTION:
URL:https://www.slovenskezapasenie.sk/event/majstrovstva-sveta-u20-pontevedra-spanielsko/
CATEGORIES:Záhraničné
END:VEVENT
BEGIN:VEVENT
DTSTART;TZID=Europe/Helsinki:20240905T080000
DTEND;TZID=Europe/Helsinki:20240905T170000
DTSTAMP:20260425T192529
CREATED:20240902T151603Z
LAST-MODIFIED:20241016T215441Z
UID:17988-1725523200-1725555600@www.slovenskezapasenie.sk
SUMMARY:Oblastná liga – 1. kolo (Snina)
DESCRIPTION:
URL:https://www.slovenskezapasenie.sk/event/oblastna-liga-1-kolo-snina/
CATEGORIES:Domáce
END:VEVENT
BEGIN:VEVENT
DTSTART;TZID=Europe/Helsinki:20240907T080000
DTEND;TZID=Europe/Helsinki:20240907T170000
DTSTAMP:20260425T192529
CREATED:20240902T151728Z
LAST-MODIFIED:20241016T215354Z
UID:17991-1725696000-1725728400@www.slovenskezapasenie.sk
SUMMARY:Oblastná liga – 2. kolo (Snina)
DESCRIPTION:
URL:https://www.slovenskezapasenie.sk/event/oblastna-liga-2-kolo-snina/
CATEGORIES:Domáce
END:VEVENT
BEGIN:VEVENT
DTSTART;TZID=Europe/Helsinki:20240907T080000
DTEND;TZID=Europe/Helsinki:20240907T170000
DTSTAMP:20260425T192529
CREATED:20240902T152905Z
LAST-MODIFIED:20240925T085948Z
UID:18026-1725696000-1725728400@www.slovenskezapasenie.sk
SUMMARY:II. kolo Majstrovstiev Moldavy v zápasení voľným štýlom (Moldava nad Bodvou)
DESCRIPTION:
URL:https://www.slovenskezapasenie.sk/event/ii-kolo-majstrovstiev-moldavy-v-zapaseni-volnym-stylom-moldava-nad-bodvou/
CATEGORIES:Domáce
END:VEVENT
BEGIN:VEVENT
DTSTART;TZID=Europe/Helsinki:20240908T080000
DTEND;TZID=Europe/Helsinki:20240908T170000
DTSTAMP:20260425T192529
CREATED:20240902T151856Z
LAST-MODIFIED:20241016T215549Z
UID:17994-1725782400-1725814800@www.slovenskezapasenie.sk
SUMMARY:Oblastná liga – 3. kolo (Snina)
DESCRIPTION:
URL:https://www.slovenskezapasenie.sk/event/oblastna-liga-3-kolo-snina/
CATEGORIES:Domáce
END:VEVENT
BEGIN:VEVENT
DTSTART;TZID=Europe/Helsinki:20240913T080000
DTEND;TZID=Europe/Helsinki:20240914T170000
DTSTAMP:20260425T192529
CREATED:20240903T132146Z
LAST-MODIFIED:20250205T144511Z
UID:18031-1726214400-1726333200@www.slovenskezapasenie.sk
SUMMARY:50. ročník – MT mládeže a priateľstva v zápasení voľným štýlom  (Prievidza)
DESCRIPTION:
URL:https://www.slovenskezapasenie.sk/event/50-rocnik-mt-mladeze-a-priatelstva-v-zapaseni-volnym-stylom-prievidza/
CATEGORIES:Domáce
END:VEVENT
BEGIN:VEVENT
DTSTART;TZID=Europe/Helsinki:20240913T080000
DTEND;TZID=Europe/Helsinki:20240914T170000
DTSTAMP:20260425T192529
CREATED:20240903T132249Z
LAST-MODIFIED:20241016T215933Z
UID:18035-1726214400-1726333200@www.slovenskezapasenie.sk
SUMMARY:9. ročník Women’s Cup (Prievidza)
DESCRIPTION:
URL:https://www.slovenskezapasenie.sk/event/9-rocnik-womens-cup-prievidza/
CATEGORIES:Domáce
END:VEVENT
BEGIN:VEVENT
DTSTART;TZID=Europe/Helsinki:20240917T080000
DTEND;TZID=Europe/Helsinki:20240917T170000
DTSTAMP:20260425T192529
CREATED:20240909T090316Z
LAST-MODIFIED:20241016T215737Z
UID:18048-1726560000-1726592400@www.slovenskezapasenie.sk
SUMMARY:Majstrovstvá Gemera – 3. kolo (Rimavská Sobota)
DESCRIPTION:
URL:https://www.slovenskezapasenie.sk/event/majstrovstva-gemera-3-kolo-rimavska-sobota/
CATEGORIES:Domáce
END:VEVENT
END:VCALENDAR