BEGIN:VCALENDAR
VERSION:2.0
PRODID:-//Slovenský zápasnícky zväz - ECPv6.15.16//NONSGML v1.0//EN
CALSCALE:GREGORIAN
METHOD:PUBLISH
X-ORIGINAL-URL:https://www.slovenskezapasenie.sk
X-WR-CALDESC:Udalosti pre Slovenský zápasnícky zväz
REFRESH-INTERVAL;VALUE=DURATION:PT1H
X-Robots-Tag:noindex
X-PUBLISHED-TTL:PT1H
BEGIN:VTIMEZONE
TZID:Europe/Helsinki
BEGIN:DAYLIGHT
TZOFFSETFROM:+0200
TZOFFSETTO:+0300
TZNAME:EEST
DTSTART:20220327T010000
END:DAYLIGHT
BEGIN:STANDARD
TZOFFSETFROM:+0300
TZOFFSETTO:+0200
TZNAME:EET
DTSTART:20221030T010000
END:STANDARD
BEGIN:DAYLIGHT
TZOFFSETFROM:+0200
TZOFFSETTO:+0300
TZNAME:EEST
DTSTART:20230326T010000
END:DAYLIGHT
BEGIN:STANDARD
TZOFFSETFROM:+0300
TZOFFSETTO:+0200
TZNAME:EET
DTSTART:20231029T010000
END:STANDARD
BEGIN:DAYLIGHT
TZOFFSETFROM:+0200
TZOFFSETTO:+0300
TZNAME:EEST
DTSTART:20240331T010000
END:DAYLIGHT
BEGIN:STANDARD
TZOFFSETFROM:+0300
TZOFFSETTO:+0200
TZNAME:EET
DTSTART:20241027T010000
END:STANDARD
END:VTIMEZONE
BEGIN:VEVENT
DTSTART;TZID=Europe/Helsinki:20230211T080000
DTEND;TZID=Europe/Helsinki:20230212T170000
DTSTAMP:20260425T162451
CREATED:20230303T085230Z
LAST-MODIFIED:20230315T110111Z
UID:16939-1676102400-1676221200@www.slovenskezapasenie.sk
SUMMARY:18. ročník Memoriálu osobností zápasenia mesta Snina U20 v.š. družstiev (Snina)
DESCRIPTION:
URL:https://www.slovenskezapasenie.sk/event/18-rocnik-memorialu-osobnosti-zapasenia-mesta-snina-u20-v-s-druzstiev/
CATEGORIES:Domáce
END:VEVENT
BEGIN:VEVENT
DTSTART;TZID=Europe/Helsinki:20230215T080000
DTEND;TZID=Europe/Helsinki:20230215T170000
DTSTAMP:20260425T162451
CREATED:20230131T162144Z
LAST-MODIFIED:20230220T083324Z
UID:16883-1676448000-1676480400@www.slovenskezapasenie.sk
SUMMARY:1. ročník - Otvorené Majstrovstvá okresu o Pohár mládeže voľným  štýlom (Prievidza)
DESCRIPTION:
URL:https://www.slovenskezapasenie.sk/event/1-rocnik-otvorene-majstrovstva-okresu-o-pohar-mladeze-volnym-stylom-prievidza/
CATEGORIES:Domáce
END:VEVENT
BEGIN:VEVENT
DTSTART;TZID=Europe/Helsinki:20230215T080000
DTEND;TZID=Europe/Helsinki:20230215T170000
DTSTAMP:20260425T162451
CREATED:20230303T085400Z
LAST-MODIFIED:20230303T085400Z
UID:16943-1676448000-1676480400@www.slovenskezapasenie.sk
SUMMARY:Majstrovstvá Košíc – 1. kolo (Košice)
DESCRIPTION:
URL:https://www.slovenskezapasenie.sk/event/majstrovstva-kosic-1-kolo-kosice/
CATEGORIES:Domáce
END:VEVENT
BEGIN:VEVENT
DTSTART;TZID=Europe/Helsinki:20230218T080000
DTEND;TZID=Europe/Helsinki:20230218T170000
DTSTAMP:20260425T162451
CREATED:20230119T120539Z
LAST-MODIFIED:20230223T083905Z
UID:16847-1676707200-1676739600@www.slovenskezapasenie.sk
SUMMARY:Otvorené Majstrovstvá Moldavy nad Bodvou v zápasení voľným štýlom chlapcov a dievčat (Moldava nad Bodvou)
DESCRIPTION:
URL:https://www.slovenskezapasenie.sk/event/otvorene-majstrovstva-moldavy-nad-bodvou-v-zapaseni-volnym-stylom-chlapcov-a-dievcat-moldava-nad-bodvou/
CATEGORIES:Domáce
END:VEVENT
BEGIN:VEVENT
DTSTART;TZID=Europe/Helsinki:20230223T080000
DTEND;TZID=Europe/Helsinki:20230226T170000
DTSTAMP:20260425T162451
CREATED:20230216T074229Z
LAST-MODIFIED:20230303T085511Z
UID:16890-1677139200-1677430800@www.slovenskezapasenie.sk
SUMMARY:Seniors Ranking Series – Ibrahim Moustafa (Alexandria\, Egypt)
DESCRIPTION:
URL:https://www.slovenskezapasenie.sk/event/seniors-ranking-series-ibrahim-moustafa-alexandria-egypt/
CATEGORIES:Záhraničné
END:VEVENT
BEGIN:VEVENT
DTSTART;TZID=Europe/Helsinki:20230224T080000
DTEND;TZID=Europe/Helsinki:20230225T170000
DTSTAMP:20260425T162451
CREATED:20230131T090831Z
LAST-MODIFIED:20230427T070812Z
UID:16876-1677225600-1677344400@www.slovenskezapasenie.sk
SUMMARY:Medzinárodný turnaj mládeže „Ľadoborec“ v zápasení gréckorímskym štýlom (Nesvady)
DESCRIPTION:
URL:https://www.slovenskezapasenie.sk/event/medzinarodny-turnaj-mladeze-ladoborec-v-zapaseni-greckorimskym-stylom-nesvady/
CATEGORIES:Domáce
END:VEVENT
BEGIN:VEVENT
DTSTART;TZID=Europe/Helsinki:20230224T080000
DTEND;TZID=Europe/Helsinki:20230226T170000
DTSTAMP:20260425T162451
CREATED:20230216T074421Z
LAST-MODIFIED:20230303T085601Z
UID:16898-1677225600-1677430800@www.slovenskezapasenie.sk
SUMMARY:Medzinárodný turnaj U17 GR WW– Croatia Open
DESCRIPTION:
URL:https://www.slovenskezapasenie.sk/event/medzinarodny-turnaj-u17-gr-ww-croatia-open/
CATEGORIES:Záhraničné
END:VEVENT
BEGIN:VEVENT
DTSTART;TZID=Europe/Helsinki:20230302T080000
DTEND;TZID=Europe/Helsinki:20230305T170000
DTSTAMP:20260425T162451
CREATED:20230216T074334Z
LAST-MODIFIED:20230320T074142Z
UID:16894-1677744000-1678035600@www.slovenskezapasenie.sk
SUMMARY:Medzinárodný turnaj – „Dan Kolov – Nikola Petrov“ Seniors
DESCRIPTION:
URL:https://www.slovenskezapasenie.sk/event/medzinarodny-turnaj-dan-kolov-nikola-petrov-seniors/
CATEGORIES:Záhraničné
END:VEVENT
BEGIN:VEVENT
DTSTART;TZID=Europe/Helsinki:20230305T080000
DTEND;TZID=Europe/Helsinki:20230305T170000
DTSTAMP:20260425T162451
CREATED:20230223T084230Z
LAST-MODIFIED:20230609T065635Z
UID:16913-1678003200-1678035600@www.slovenskezapasenie.sk
SUMMARY:1. Slovenská dorastenecká liga - 1. kolo (Košice)
DESCRIPTION:
URL:https://www.slovenskezapasenie.sk/event/1-slovenska-dorastenecka-liga-1-kolo-kosice/
CATEGORIES:Domáce
END:VEVENT
BEGIN:VEVENT
DTSTART;TZID=Europe/Helsinki:20230311T080000
DTEND;TZID=Europe/Helsinki:20230311T170000
DTSTAMP:20260425T162451
CREATED:20230303T085802Z
LAST-MODIFIED:20230320T074112Z
UID:16950-1678521600-1678554000@www.slovenskezapasenie.sk
SUMMARY:1. Slovenská žiacka liga gr.š. – 1. kolo – Šamorín
DESCRIPTION:
URL:https://www.slovenskezapasenie.sk/event/1-slovenska-ziacka-liga-gr-s-1-kolo-samorin/
CATEGORIES:Domáce
END:VEVENT
BEGIN:VEVENT
DTSTART;TZID=Europe/Helsinki:20230313T080000
DTEND;TZID=Europe/Helsinki:20230319T170000
DTSTAMP:20260425T162451
CREATED:20230216T074513Z
LAST-MODIFIED:20230320T074217Z
UID:16901-1678694400-1679245200@www.slovenskezapasenie.sk
SUMMARY:U23 European Champinships
DESCRIPTION:
URL:https://www.slovenskezapasenie.sk/event/u23-european-champinships/
CATEGORIES:Záhraničné
END:VEVENT
BEGIN:VEVENT
DTSTART;TZID=Europe/Helsinki:20230315T080000
DTEND;TZID=Europe/Helsinki:20230315T170000
DTSTAMP:20260425T162451
CREATED:20230427T070319Z
LAST-MODIFIED:20230427T070319Z
UID:17030-1678867200-1678899600@www.slovenskezapasenie.sk
SUMMARY:1. kolo Majstrovstiev východoslovenského regiónu (Košice)
DESCRIPTION:
URL:https://www.slovenskezapasenie.sk/event/1-kolo-majstrovstiev-vychodoslovenskeho-regionu-kosice/
CATEGORIES:Domáce
END:VEVENT
BEGIN:VEVENT
DTSTART;TZID=Europe/Helsinki:20230324T080000
DTEND;TZID=Europe/Helsinki:20230325T170000
DTSTAMP:20260425T162451
CREATED:20230303T090019Z
LAST-MODIFIED:20230606T130434Z
UID:16953-1679644800-1679763600@www.slovenskezapasenie.sk
SUMMARY:Majstrovstvá Slovenska U17 (kadetov a kadetiek) v zápasení voľným štýlom (Nitra)
DESCRIPTION:
URL:https://www.slovenskezapasenie.sk/event/majstrovstva-slovenska-u17-kadetov-a-kadetiek-v-zapaseni-volnym-stylom-nitra/
CATEGORIES:Domáce
END:VEVENT
BEGIN:VEVENT
DTSTART;TZID=Europe/Helsinki:20230325T080000
DTEND;TZID=Europe/Helsinki:20230326T170000
DTSTAMP:20260425T162451
CREATED:20230303T090125Z
LAST-MODIFIED:20230606T130245Z
UID:16957-1679731200-1679850000@www.slovenskezapasenie.sk
SUMMARY:Majstrovstvá Slovenska U17 (kadetov) v zápasení gréckorímskym štýlom (Nitra)
DESCRIPTION:
URL:https://www.slovenskezapasenie.sk/event/majstrovstva-slovenska-u17-kadetov-v-zapaseni-greckorimskym-stylom-nitra/
CATEGORIES:Domáce
END:VEVENT
BEGIN:VEVENT
DTSTART;TZID=Europe/Helsinki:20230402T080000
DTEND;TZID=Europe/Helsinki:20230402T170000
DTSTAMP:20260425T162451
CREATED:20230223T083751Z
LAST-MODIFIED:20230320T074245Z
UID:16906-1680422400-1680454800@www.slovenskezapasenie.sk
SUMMARY:1. Slovenská žiacka liga – východ – 1. kolo (Moldava nad Bodvou)
DESCRIPTION:
URL:https://www.slovenskezapasenie.sk/event/1-slovenska-ziacka-liga-vychod-1-kolo-moldava-nad-bodvou/
CATEGORIES:Domáce
END:VEVENT
BEGIN:VEVENT
DTSTART;TZID=Europe/Helsinki:20230408T080000
DTEND;TZID=Europe/Helsinki:20230408T170000
DTSTAMP:20260425T162451
CREATED:20230626T092126Z
LAST-MODIFIED:20230626T092126Z
UID:17134-1680940800-1680973200@www.slovenskezapasenie.sk
SUMMARY:Medzinárodný turnaj mládeže v zápasení gr.š. o Putovný Pohár ZK Trhová Hradská 1. kolo (Veľký Meder)
DESCRIPTION:
URL:https://www.slovenskezapasenie.sk/event/medzinarodny-turnaj-mladeze-v-zapaseni-gr-s-o-putovny-pohar-zk-trhova-hradska-1-kolo-velky-meder/
CATEGORIES:Domáce
END:VEVENT
BEGIN:VEVENT
DTSTART;TZID=Europe/Helsinki:20230414T080000
DTEND;TZID=Europe/Helsinki:20230415T170000
DTSTAMP:20260425T162451
CREATED:20230320T083702Z
LAST-MODIFIED:20230511T123755Z
UID:16990-1681459200-1681578000@www.slovenskezapasenie.sk
SUMMARY:Majstrovstvá Slovenskej republiky U15 (starší žiaci a žiačky) v zápasení voľným štýlom (Dunajská Streda)
DESCRIPTION:
URL:https://www.slovenskezapasenie.sk/event/majstrovstva-slovenskej-republiky-u15-starsi-ziaci-a-ziacky-v-zapaseni-volnym-stylom-dunajska-streda/
CATEGORIES:Domáce
END:VEVENT
BEGIN:VEVENT
DTSTART;TZID=Europe/Helsinki:20230414T080000
DTEND;TZID=Europe/Helsinki:20230416T170000
DTSTAMP:20260425T162451
CREATED:20230320T083440Z
LAST-MODIFIED:20230427T070206Z
UID:16983-1681459200-1681664400@www.slovenskezapasenie.sk
SUMMARY:MT FLATZ Austria Open 2023 (Wolfurt\, Rakúsko)
DESCRIPTION:
URL:https://www.slovenskezapasenie.sk/event/mt-flatz-austria-open-2023-wolfurt-rakusko/
CATEGORIES:Záhraničné
END:VEVENT
BEGIN:VEVENT
DTSTART;TZID=Europe/Helsinki:20230417T080000
DTEND;TZID=Europe/Helsinki:20230423T170000
DTSTAMP:20260425T162451
CREATED:20230320T083816Z
LAST-MODIFIED:20230427T070120Z
UID:16994-1681718400-1682269200@www.slovenskezapasenie.sk
SUMMARY:Senior European Championships (Zagreb\, Chorvátsko)
DESCRIPTION:
URL:https://www.slovenskezapasenie.sk/event/senior-european-championships-zagreb-chorvatsko/
CATEGORIES:Záhraničné
END:VEVENT
BEGIN:VEVENT
DTSTART;TZID=Europe/Helsinki:20230421T080000
DTEND;TZID=Europe/Helsinki:20230422T170000
DTSTAMP:20260425T162451
CREATED:20230320T083554Z
LAST-MODIFIED:20230511T162624Z
UID:16986-1682064000-1682182800@www.slovenskezapasenie.sk
SUMMARY:Majstrovstvá Slovenskej republiky U13 (mladší žiaci a žiačky) v zápasení voľným štýlom (Snina)
DESCRIPTION:
URL:https://www.slovenskezapasenie.sk/event/majstrovstva-slovenskej-republiky-u13-mladsi-ziaci-a-ziacky-v-zapaseni-volnym-stylom-snina/
CATEGORIES:Domáce
END:VEVENT
BEGIN:VEVENT
DTSTART;TZID=Europe/Helsinki:20230429T080000
DTEND;TZID=Europe/Helsinki:20230429T170000
DTSTAMP:20260425T162451
CREATED:20230330T150154Z
LAST-MODIFIED:20230330T150154Z
UID:17011-1682755200-1682787600@www.slovenskezapasenie.sk
SUMMARY:Medzinárodný turnaj v zápasení v.š. „O pohár primátora mesta Stará Ľubovňa“ (Stará Ľubovňa)
DESCRIPTION:
URL:https://www.slovenskezapasenie.sk/event/medzinarodny-turnaj-v-zapaseni-v-s-o-pohar-primatora-mesta-stara-lubovna-stara-lubovna/
CATEGORIES:Domáce
END:VEVENT
BEGIN:VEVENT
DTSTART;TZID=Europe/Helsinki:20230430T080000
DTEND;TZID=Europe/Helsinki:20230430T170000
DTSTAMP:20260425T162451
CREATED:20230427T070719Z
LAST-MODIFIED:20230511T123701Z
UID:17044-1682841600-1682874000@www.slovenskezapasenie.sk
SUMMARY:I. kolo Slovenskej seniorskej ligy v zápasení v.š. (Rimavská Sobota)
DESCRIPTION:
URL:https://www.slovenskezapasenie.sk/event/i-kolo-slovenskej-seniorskej-ligy-v-zapaseni-v-s-rimavska-sobota/
CATEGORIES:Domáce
END:VEVENT
BEGIN:VEVENT
DTSTART;TZID=Europe/Helsinki:20230511T080000
DTEND;TZID=Europe/Helsinki:20230515T170000
DTSTAMP:20260425T162451
CREATED:20230427T070015Z
LAST-MODIFIED:20230427T070015Z
UID:17027-1683792000-1684170000@www.slovenskezapasenie.sk
SUMMARY:MT Constantin Alexandru & Ioan W. Popovici - U17 - Bucharest (ROU)
DESCRIPTION:
URL:https://www.slovenskezapasenie.sk/event/mt-constantin-alexandru-ioan-w-popovici-u17-bucharest-rou/
CATEGORIES:Záhraničné
END:VEVENT
BEGIN:VEVENT
DTSTART;TZID=Europe/Helsinki:20230512T080000
DTEND;TZID=Europe/Helsinki:20230513T170000
DTSTAMP:20260425T162451
CREATED:20230403T083726Z
LAST-MODIFIED:20230606T130600Z
UID:17020-1683878400-1683997200@www.slovenskezapasenie.sk
SUMMARY:MT - 5. ročník Memoriál Jána Židzika - turnaj mládeže v zápasení v.š. (Snina)
DESCRIPTION:
URL:https://www.slovenskezapasenie.sk/event/mt-5-rocnik-memorial-jana-zidzika-turnaj-mladeze-v-zapaseni-v-s-snina/
CATEGORIES:Domáce
END:VEVENT
BEGIN:VEVENT
DTSTART;TZID=Europe/Helsinki:20230519T080000
DTEND;TZID=Europe/Helsinki:20230520T170000
DTSTAMP:20260425T162451
CREATED:20230427T070601Z
LAST-MODIFIED:20230606T125658Z
UID:17039-1684483200-1684602000@www.slovenskezapasenie.sk
SUMMARY:XI. Žitnoostrovský pohár – MT v zápasení v.š. (Dunajská Streda)
DESCRIPTION:
URL:https://www.slovenskezapasenie.sk/event/xi-zitnoostrovsky-pohar-mt-v-zapaseni-v-s/
CATEGORIES:Domáce
END:VEVENT
BEGIN:VEVENT
DTSTART;TZID=Europe/Helsinki:20230526T080000
DTEND;TZID=Europe/Helsinki:20230527T170000
DTSTAMP:20260425T162451
CREATED:20230511T123354Z
LAST-MODIFIED:20230606T130037Z
UID:17060-1685088000-1685206800@www.slovenskezapasenie.sk
SUMMARY:Majstrovstvá Slovenskej republiky seniorov a senioriek v zápasení voľným štýlom (Rimavská Sobota)
DESCRIPTION:
URL:https://www.slovenskezapasenie.sk/event/majstrovstva-slovenskej-republiky-seniorov-a-senioriek-v-zapaseni-volnym-stylom-rimavska-sobota/
CATEGORIES:Domáce
END:VEVENT
BEGIN:VEVENT
DTSTART;TZID=Europe/Helsinki:20230527T080000
DTEND;TZID=Europe/Helsinki:20230528T170000
DTSTAMP:20260425T162451
CREATED:20230511T123513Z
LAST-MODIFIED:20230606T125816Z
UID:17064-1685174400-1685293200@www.slovenskezapasenie.sk
SUMMARY:Majstrovstvá Slovenskej republiky seniorov v zápasení gréckorímskym štýlom (Rimavská Sobota)
DESCRIPTION:
URL:https://www.slovenskezapasenie.sk/event/majstrovstva-slovenskej-republiky-seniorov-v-zapaseni-greckorimskym-stylom-rimavska-sobota/
CATEGORIES:Domáce
END:VEVENT
BEGIN:VEVENT
DTSTART;TZID=Europe/Helsinki:20230603T080000
DTEND;TZID=Europe/Helsinki:20230603T170000
DTSTAMP:20260425T162451
CREATED:20230511T123606Z
LAST-MODIFIED:20230920T123607Z
UID:17068-1685779200-1685811600@www.slovenskezapasenie.sk
SUMMARY:2. kolo 1. Slovenskej dorasteneckej ligy (Bratislava)
DESCRIPTION:
URL:https://www.slovenskezapasenie.sk/event/2-kolo-1-slovenskej-dorasteneckej-ligy-bratislava/
CATEGORIES:Domáce
END:VEVENT
BEGIN:VEVENT
DTSTART;TZID=Europe/Helsinki:20230609T080000
DTEND;TZID=Europe/Helsinki:20230610T170000
DTSTAMP:20260425T162451
CREATED:20230626T085735Z
LAST-MODIFIED:20230626T085735Z
UID:17116-1686297600-1686416400@www.slovenskezapasenie.sk
SUMMARY:International Tournament – City of Sassari – Memorial Matteo Pellicone (Sassari\, Taliansko)
DESCRIPTION:
URL:https://www.slovenskezapasenie.sk/event/international-tournament-city-of-sassari-memorial-matteo-pellicone-sassari-taliansko/
CATEGORIES:Záhraničné
END:VEVENT
BEGIN:VEVENT
DTSTART;TZID=Europe/Helsinki:20230609T080000
DTEND;TZID=Europe/Helsinki:20230610T170000
DTSTAMP:20260425T162451
CREATED:20230626T092437Z
LAST-MODIFIED:20230626T092437Z
UID:17143-1686297600-1686416400@www.slovenskezapasenie.sk
SUMMARY:VI. ročník MT. O Pohár riaditeľky Gymnázia Štefana Moysesa v Moldave nad Bodvou
DESCRIPTION:
URL:https://www.slovenskezapasenie.sk/event/vi-rocnik-mt-o-pohar-riaditelky-gymnazia-stefana-moysesa-v-moldave-nad-bodvou/
CATEGORIES:Domáce
END:VEVENT
END:VCALENDAR