BEGIN:VCALENDAR
VERSION:2.0
PRODID:-//Slovenský zápasnícky zväz - ECPv6.15.16//NONSGML v1.0//EN
CALSCALE:GREGORIAN
METHOD:PUBLISH
X-ORIGINAL-URL:https://www.slovenskezapasenie.sk
X-WR-CALDESC:Udalosti pre Slovenský zápasnícky zväz
REFRESH-INTERVAL;VALUE=DURATION:PT1H
X-Robots-Tag:noindex
X-PUBLISHED-TTL:PT1H
BEGIN:VTIMEZONE
TZID:Europe/Helsinki
BEGIN:DAYLIGHT
TZOFFSETFROM:+0200
TZOFFSETTO:+0300
TZNAME:EEST
DTSTART:20240331T010000
END:DAYLIGHT
BEGIN:STANDARD
TZOFFSETFROM:+0300
TZOFFSETTO:+0200
TZNAME:EET
DTSTART:20241027T010000
END:STANDARD
BEGIN:DAYLIGHT
TZOFFSETFROM:+0200
TZOFFSETTO:+0300
TZNAME:EEST
DTSTART:20250330T010000
END:DAYLIGHT
BEGIN:STANDARD
TZOFFSETFROM:+0300
TZOFFSETTO:+0200
TZNAME:EET
DTSTART:20251026T010000
END:STANDARD
BEGIN:DAYLIGHT
TZOFFSETFROM:+0200
TZOFFSETTO:+0300
TZNAME:EEST
DTSTART:20260329T010000
END:DAYLIGHT
BEGIN:STANDARD
TZOFFSETFROM:+0300
TZOFFSETTO:+0200
TZNAME:EET
DTSTART:20261025T010000
END:STANDARD
BEGIN:DAYLIGHT
TZOFFSETFROM:+0200
TZOFFSETTO:+0300
TZNAME:EEST
DTSTART:20270328T010000
END:DAYLIGHT
BEGIN:STANDARD
TZOFFSETFROM:+0300
TZOFFSETTO:+0200
TZNAME:EET
DTSTART:20271031T010000
END:STANDARD
END:VTIMEZONE
BEGIN:VEVENT
DTSTART;TZID=Europe/Helsinki:20260412T080000
DTEND;TZID=Europe/Helsinki:20260412T170000
DTSTAMP:20260425T175316
CREATED:20260401T152545Z
LAST-MODIFIED:20260401T152545Z
UID:20998-1775980800-1776013200@www.slovenskezapasenie.sk
SUMMARY:1. kolo 1.Slovenskej dorasteneckej ligy v zápasení voľným štýlom (Nitra)
DESCRIPTION:
URL:https://www.slovenskezapasenie.sk/event/1-kolo-1-slovenskej-dorasteneckej-ligy-v-zapaseni-volnym-stylom-nitra/
CATEGORIES:Domáce
END:VEVENT
BEGIN:VEVENT
DTSTART;TZID=Europe/Helsinki:20260327T080000
DTEND;TZID=Europe/Helsinki:20260328T170000
DTSTAMP:20260425T175316
CREATED:20260324T132531Z
LAST-MODIFIED:20260424T093534Z
UID:20956-1774598400-1774717200@www.slovenskezapasenie.sk
SUMMARY:MAJSTROVSTVÁ SLOVENSKEJ REPUBLIKY v kategórii U15 v zápasení gréckorímskym štýlom (Svätý Peter)
DESCRIPTION:
URL:https://www.slovenskezapasenie.sk/event/majstrovstva-slovenskej-republiky-v-kategorii-u15-v-zapaseni-greckorimskym-stylom-svaty-peter/
CATEGORIES:Domáce
END:VEVENT
BEGIN:VEVENT
DTSTART;TZID=Europe/Helsinki:20260322T080000
DTEND;TZID=Europe/Helsinki:20260322T170000
DTSTAMP:20260425T175316
CREATED:20260324T132241Z
LAST-MODIFIED:20260424T132227Z
UID:20952-1774166400-1774198800@www.slovenskezapasenie.sk
SUMMARY:I. Veľkonočný detský pohár (Dunajská Streda)
DESCRIPTION:
URL:https://www.slovenskezapasenie.sk/event/i-velkonocny-detsky-pohar-dunajska-streda/
CATEGORIES:Domáce
END:VEVENT
BEGIN:VEVENT
DTSTART;TZID=Europe/Helsinki:20260321T080000
DTEND;TZID=Europe/Helsinki:20260321T170000
DTSTAMP:20260425T175316
CREATED:20260407T195519Z
LAST-MODIFIED:20260407T195519Z
UID:21005-1774080000-1774112400@www.slovenskezapasenie.sk
SUMMARY:3.Ročník Memoriálu Štefana Horvátha v grécko-rímskom štýle (Šamorín)
DESCRIPTION:
URL:https://www.slovenskezapasenie.sk/event/3-rocnik-memorialu-stefana-horvatha-v-grecko-rimskom-style-samorin/
CATEGORIES:Domáce
END:VEVENT
BEGIN:VEVENT
DTSTART;TZID=Europe/Helsinki:20260313T080000
DTEND;TZID=Europe/Helsinki:20260314T170000
DTSTAMP:20260425T175316
CREATED:20260221T100350Z
LAST-MODIFIED:20260424T093605Z
UID:20926-1773388800-1773507600@www.slovenskezapasenie.sk
SUMMARY:MAJSTROVSTVÁ SLOVENSKEJ REPUBLIKY v kategórii U15 WW
DESCRIPTION:
URL:https://www.slovenskezapasenie.sk/event/majstrovstva-slovenskej-republiky-v-kategorii-u15-ww/
CATEGORIES:Domáce
END:VEVENT
BEGIN:VEVENT
DTSTART;TZID=Europe/Helsinki:20260304T080000
DTEND;TZID=Europe/Helsinki:20260304T170000
DTSTAMP:20260425T175316
CREATED:20260224T090838Z
LAST-MODIFIED:20260331T134916Z
UID:20935-1772611200-1772643600@www.slovenskezapasenie.sk
SUMMARY:4. ročník - Otvorené Majstrovstvá okresu o Pohár mládeže  voľným štýlom (Prievidza)
DESCRIPTION:
URL:https://www.slovenskezapasenie.sk/event/4-rocnik-otvorene-majstrovstva-okresu-o-pohar-mladeze-volnym-stylom-prievidza/
CATEGORIES:Domáce
END:VEVENT
BEGIN:VEVENT
DTSTART;TZID=Europe/Helsinki:20260227T080000
DTEND;TZID=Europe/Helsinki:20260228T170000
DTSTAMP:20260425T175316
CREATED:20260213T172007Z
LAST-MODIFIED:20260424T093445Z
UID:20919-1772179200-1772298000@www.slovenskezapasenie.sk
SUMMARY:MEDZINÁRODNÝ ZÁPASNÍCKY TURNAJ MLÁDEŽE „ Ľadoborec “
DESCRIPTION:
URL:https://www.slovenskezapasenie.sk/event/medzinarodny-zapasnicky-turnaj-mladeze-ladoborec-2/
CATEGORIES:Domáce
END:VEVENT
BEGIN:VEVENT
DTSTART;TZID=Europe/Helsinki:20260221T080000
DTEND;TZID=Europe/Helsinki:20260222T170000
DTSTAMP:20260425T175316
CREATED:20260211T124456Z
LAST-MODIFIED:20260424T093325Z
UID:20752-1771660800-1771779600@www.slovenskezapasenie.sk
SUMMARY:MAJSTROVSTVÁ SLOVENSKEJ REPUBLIKY v kategórii U17 v kategórii U17 v zápasení gréckorímskym štýlom (Dunajská Streda)
DESCRIPTION:
URL:https://www.slovenskezapasenie.sk/event/majstrovstva-slovenskej-republiky-v-kategorii-u17-v-kategorii-u17-v-zapaseni-greckorimskym-stylom-dunajska-streda/
CATEGORIES:Domáce
ATTACH;FMTTYPE=image/jpeg:https://www.slovenskezapasenie.sk/wp-content/uploads/2026/02/plagat_v2-scaled.jpg
END:VEVENT
BEGIN:VEVENT
DTSTART;TZID=Europe/Helsinki:20260220T080000
DTEND;TZID=Europe/Helsinki:20260221T170000
DTSTAMP:20260425T175316
CREATED:20260211T124517Z
LAST-MODIFIED:20260424T093257Z
UID:20754-1771574400-1771693200@www.slovenskezapasenie.sk
SUMMARY:MAJSTROVSTVÁ SLOVENSKEJ REPUBLIKY v kategórii U17 v kategórii U17 v zápasení voľným štýlom
DESCRIPTION:
URL:https://www.slovenskezapasenie.sk/event/majstrovstva-slovenskej-republiky-v-kategorii-u17-v-kategorii-u17-v-zapaseni-volnym-stylom/
CATEGORIES:Domáce
ATTACH;FMTTYPE=image/jpeg:https://www.slovenskezapasenie.sk/wp-content/uploads/2026/02/plagat_v2-scaled.jpg
END:VEVENT
BEGIN:VEVENT
DTSTART;TZID=Europe/Helsinki:20260220T080000
DTEND;TZID=Europe/Helsinki:20260221T170000
DTSTAMP:20260425T175316
CREATED:20260211T124034Z
LAST-MODIFIED:20260424T093359Z
UID:20746-1771574400-1771693200@www.slovenskezapasenie.sk
SUMMARY:MAJSTROVSTVÁ SLOVENSKEJ REPUBLIKY v kategórii U17 WW v zápasení voľným štýlom (Dunajská Streda)
DESCRIPTION:
URL:https://www.slovenskezapasenie.sk/event/majstrovstva-slovenskej-republiky-v-kategorii-u17-ww-v-zapaseni-volnym-stylom-dunajska-streda/
CATEGORIES:Domáce
ATTACH;FMTTYPE=image/jpeg:https://www.slovenskezapasenie.sk/wp-content/uploads/2026/02/plagat_v2-scaled.jpg
END:VEVENT
BEGIN:VEVENT
DTSTART;TZID=Europe/Helsinki:20260213T080000
DTEND;TZID=Europe/Helsinki:20260214T170000
DTSTAMP:20260425T175316
CREATED:20260221T100509Z
LAST-MODIFIED:20260424T100509Z
UID:20932-1770969600-1771088400@www.slovenskezapasenie.sk
SUMMARY:MAJSTROVSTVÁ SLOVENSKEJ REPUBLIKY v kategórii U15 v zápasení voľným štýlom
DESCRIPTION:
URL:https://www.slovenskezapasenie.sk/event/majstrovstva-slovenskej-republiky-v-kategorii-u15-v-zapaseni-volnym-stylom/
CATEGORIES:Domáce
END:VEVENT
BEGIN:VEVENT
DTSTART;TZID=Europe/Helsinki:20260207T080000
DTEND;TZID=Europe/Helsinki:20260207T170000
DTSTAMP:20260425T175316
CREATED:20260212T103629Z
LAST-MODIFIED:20260212T103629Z
UID:20890-1770451200-1770483600@www.slovenskezapasenie.sk
SUMMARY:1. kolo 1. Slovenskej žiackej ligy – skupiny Východ (Košice)
DESCRIPTION:
URL:https://www.slovenskezapasenie.sk/event/1-kolo-1-slovenskej-ziackej-ligy-skupiny-vychod-kosice/
CATEGORIES:Domáce
END:VEVENT
BEGIN:VEVENT
DTSTART;TZID=Europe/Helsinki:20260131T080000
DTEND;TZID=Europe/Helsinki:20260131T170000
DTSTAMP:20260425T175316
CREATED:20260203T135812Z
LAST-MODIFIED:20260203T135812Z
UID:20690-1769846400-1769878800@www.slovenskezapasenie.sk
SUMMARY:I. kolo žiackej ligy - Západ
DESCRIPTION:
URL:https://www.slovenskezapasenie.sk/event/i-kolo-ziackej-ligy-zapad/
CATEGORIES:Domáce
END:VEVENT
BEGIN:VEVENT
DTSTART;TZID=Europe/Helsinki:20251206T080000
DTEND;TZID=Europe/Helsinki:20251206T170000
DTSTAMP:20260425T175316
CREATED:20251124T114803Z
LAST-MODIFIED:20260424T132311Z
UID:19890-1765008000-1765040400@www.slovenskezapasenie.sk
SUMMARY:Memoriál Mikuláša Athanasova (Košice)
DESCRIPTION:
URL:https://www.slovenskezapasenie.sk/event/memorial-mikulasa-athanasova-kosice/
CATEGORIES:Domáce
END:VEVENT
BEGIN:VEVENT
DTSTART;TZID=Europe/Helsinki:20251203T080000
DTEND;TZID=Europe/Helsinki:20251203T170000
DTSTAMP:20260425T175316
CREATED:20251121T141921Z
LAST-MODIFIED:20251218T120849Z
UID:19885-1764748800-1764781200@www.slovenskezapasenie.sk
SUMMARY:6. ročník Oblastného Mikulášskeho turnaja mládeže v zápasení voľným štýlom (Prievidza)
DESCRIPTION:
URL:https://www.slovenskezapasenie.sk/event/6-rocnik-oblastneho-mikulasskeho-turnaja-mladeze-v-zapaseni-volnym-stylom-prievidza/
CATEGORIES:Domáce
END:VEVENT
BEGIN:VEVENT
DTSTART;TZID=Europe/Helsinki:20251129T080000
DTEND;TZID=Europe/Helsinki:20251129T170000
DTSTAMP:20260425T175316
CREATED:20251105T103934Z
LAST-MODIFIED:20260424T132348Z
UID:19868-1764403200-1764435600@www.slovenskezapasenie.sk
SUMMARY:„Iuvenis Gladiator“ III. kolo - turnaj v zápasení vo voľnom štýle (Trenčín)
DESCRIPTION:
URL:https://www.slovenskezapasenie.sk/event/iuvenis-gladiator-iii-kolo-turnaj-v-zapaseni-vo-volnom-style/
CATEGORIES:Domáce
END:VEVENT
BEGIN:VEVENT
DTSTART;TZID=Europe/Helsinki:20251115T080000
DTEND;TZID=Europe/Helsinki:20251115T170000
DTSTAMP:20260425T175316
CREATED:20251027T115953Z
LAST-MODIFIED:20260424T093228Z
UID:19854-1763193600-1763226000@www.slovenskezapasenie.sk
SUMMARY:2. kolo Slovenskej seniorskej ligy (Bratislava)
DESCRIPTION:
URL:https://www.slovenskezapasenie.sk/event/2-kolo-slovenskej-seniorskej-ligy-bratislava/
CATEGORIES:Domáce
END:VEVENT
BEGIN:VEVENT
DTSTART;TZID=Europe/Helsinki:20251107T080000
DTEND;TZID=Europe/Helsinki:20251108T170000
DTSTAMP:20260425T175316
CREATED:20250923T163947Z
LAST-MODIFIED:20260424T093001Z
UID:19774-1762502400-1762621200@www.slovenskezapasenie.sk
SUMMARY:XXVI. MT Olympijských nádejí (Košice)
DESCRIPTION:
URL:https://www.slovenskezapasenie.sk/event/xxvi-mt-olympijskych-nadeji-kosice/
CATEGORIES:Domáce
END:VEVENT
BEGIN:VEVENT
DTSTART;TZID=Europe/Helsinki:20251024T080000
DTEND;TZID=Europe/Helsinki:20251025T170000
DTSTAMP:20260425T175316
CREATED:20251008T100331Z
LAST-MODIFIED:20251105T103506Z
UID:19807-1761292800-1761411600@www.slovenskezapasenie.sk
SUMMARY:Majstrovstvá Slovenskej republiky U13 voľný štýl (Fiľakovo)
DESCRIPTION:
URL:https://www.slovenskezapasenie.sk/event/majstrovstva-slovenskej-republiky-u13-volny-styl-filakovo/
CATEGORIES:Domáce
END:VEVENT
BEGIN:VEVENT
DTSTART;TZID=Europe/Helsinki:20251020T080000
DTEND;TZID=Europe/Helsinki:20251027T170000
DTSTAMP:20260425T175316
CREATED:20251002T122716Z
LAST-MODIFIED:20251113T090656Z
UID:19802-1760947200-1761584400@www.slovenskezapasenie.sk
SUMMARY:Majstrovstvá sveta U23 (Novi Sad\, Srbsko)
DESCRIPTION:
URL:https://www.slovenskezapasenie.sk/event/majstrovstva-sveta-u23-novi-sad-srbsko/
CATEGORIES:Záhraničné
END:VEVENT
BEGIN:VEVENT
DTSTART;TZID=Europe/Helsinki:20251017T080000
DTEND;TZID=Europe/Helsinki:20251018T170000
DTSTAMP:20260425T175316
CREATED:20250922T130856Z
LAST-MODIFIED:20251105T103626Z
UID:19768-1760688000-1760806800@www.slovenskezapasenie.sk
SUMMARY:Majstrovstvá Slovenskej Republiky U13 gréckorímsky štýl (Fiľakovo)
DESCRIPTION:
URL:https://www.slovenskezapasenie.sk/event/majstrovstva-slovenskej-republiky-u13-greckorimsky-styl-filakovo/
CATEGORIES:Domáce
END:VEVENT
BEGIN:VEVENT
DTSTART;TZID=Europe/Helsinki:20251011T080000
DTEND;TZID=Europe/Helsinki:20251011T170000
DTSTAMP:20260425T175316
CREATED:20251001T101932Z
LAST-MODIFIED:20260424T092920Z
UID:19788-1760169600-1760202000@www.slovenskezapasenie.sk
SUMMARY:3. kolo slovenskej žiackej ligy – východ (Moldava nad Bodvou)
DESCRIPTION:
URL:https://www.slovenskezapasenie.sk/event/3-kolo-slovenskej-ziackej-ligy-vychod-moldava-nad-bodvou/
CATEGORIES:Domáce
END:VEVENT
BEGIN:VEVENT
DTSTART;TZID=Europe/Helsinki:20251011T080000
DTEND;TZID=Europe/Helsinki:20251011T170000
DTSTAMP:20260425T175316
CREATED:20250923T164139Z
LAST-MODIFIED:20251019T130419Z
UID:19778-1760169600-1760202000@www.slovenskezapasenie.sk
SUMMARY:3. kolo Slovenskej žiackej ligy – západ (Prievidza)
DESCRIPTION:
URL:https://www.slovenskezapasenie.sk/event/3-kolo-slovenskej-ziackej-ligy-zapad-prievidza/
CATEGORIES:Domáce
END:VEVENT
BEGIN:VEVENT
DTSTART;TZID=Europe/Helsinki:20251007T080000
DTEND;TZID=Europe/Helsinki:20251012T170000
DTSTAMP:20260425T175316
CREATED:20251002T122616Z
LAST-MODIFIED:20251027T115841Z
UID:19799-1759824000-1760288400@www.slovenskezapasenie.sk
SUMMARY:Majstrovstvá sveta veteránov
DESCRIPTION:
URL:https://www.slovenskezapasenie.sk/event/majstrovstva-sveta-veteranov/
CATEGORIES:Záhraničné
END:VEVENT
BEGIN:VEVENT
DTSTART;TZID=Europe/Helsinki:20251005T080000
DTEND;TZID=Europe/Helsinki:20251005T170000
DTSTAMP:20260425T175316
CREATED:20251002T080511Z
LAST-MODIFIED:20251105T103746Z
UID:19796-1759651200-1759683600@www.slovenskezapasenie.sk
SUMMARY:1. kolo Slovenskej seniorskej ligy (Rimavská Sobota)
DESCRIPTION:
URL:https://www.slovenskezapasenie.sk/event/1-kolo-slovenskej-seniorskej-ligy-rimavska-sobota/
CATEGORIES:Domáce
END:VEVENT
BEGIN:VEVENT
DTSTART;TZID=Europe/Helsinki:20251003T080000
DTEND;TZID=Europe/Helsinki:20251004T170000
DTSTAMP:20260425T175316
CREATED:20250811T115956Z
LAST-MODIFIED:20260413T124652Z
UID:19634-1759478400-1759597200@www.slovenskezapasenie.sk
SUMMARY:MT XIII. Žitnoostrovský pohár (Dunajská Streda)
DESCRIPTION:
URL:https://www.slovenskezapasenie.sk/event/mt-xiii-zitnoostrovsky-pohar-dunajska-streda/
CATEGORIES:Domáce
END:VEVENT
BEGIN:VEVENT
DTSTART;TZID=Europe/Helsinki:20251002T080000
DTEND;TZID=Europe/Helsinki:20251002T170000
DTSTAMP:20260425T175316
CREATED:20251002T080104Z
LAST-MODIFIED:20260424T092724Z
UID:19792-1759392000-1759424400@www.slovenskezapasenie.sk
SUMMARY:Malý Corgoň 3. kolo (Nitra)
DESCRIPTION:
URL:https://www.slovenskezapasenie.sk/event/maly-corgon-3-kolo/
CATEGORIES:Domáce
END:VEVENT
BEGIN:VEVENT
DTSTART;TZID=Europe/Helsinki:20250926T080000
DTEND;TZID=Europe/Helsinki:20250927T170000
DTSTAMP:20260425T175316
CREATED:20250903T155321Z
LAST-MODIFIED:20250903T155343Z
UID:19686-1758873600-1758992400@www.slovenskezapasenie.sk
SUMMARY:42. ročník Memoriálu Jozefa Svitača (Nitra)
DESCRIPTION:
URL:https://www.slovenskezapasenie.sk/event/42-rocnik-memorialu-jozefa-svitaca-nitra/
CATEGORIES:Domáce
END:VEVENT
BEGIN:VEVENT
DTSTART;TZID=Europe/Helsinki:20250926T080000
DTEND;TZID=Europe/Helsinki:20250927T170000
DTSTAMP:20260425T175316
CREATED:20250721T110609Z
LAST-MODIFIED:20250721T110609Z
UID:19566-1758873600-1758992400@www.slovenskezapasenie.sk
SUMMARY:IV. Ročník MT Memoriál Maroša Talla (Košice)
DESCRIPTION:
URL:https://www.slovenskezapasenie.sk/event/iv-rocnik-mt-memorial-marosa-talla-kosice/
CATEGORIES:Domáce
END:VEVENT
BEGIN:VEVENT
DTSTART;TZID=Europe/Helsinki:20250920T080000
DTEND;TZID=Europe/Helsinki:20250920T170000
DTSTAMP:20260425T175316
CREATED:20250630T082415Z
LAST-MODIFIED:20250916T090105Z
UID:19500-1758355200-1758387600@www.slovenskezapasenie.sk
SUMMARY:1. Svätopeterský Medzinárodný Turnaj
DESCRIPTION:
URL:https://www.slovenskezapasenie.sk/event/1-svatopetersky-medzinarodny-turnaj/
CATEGORIES:Domáce
END:VEVENT
END:VCALENDAR