BEGIN:VCALENDAR
VERSION:2.0
PRODID:-//Slovenský zápasnícky zväz - ECPv6.15.16//NONSGML v1.0//EN
CALSCALE:GREGORIAN
METHOD:PUBLISH
X-ORIGINAL-URL:https://www.slovenskezapasenie.sk
X-WR-CALDESC:Udalosti pre Slovenský zápasnícky zväz
REFRESH-INTERVAL;VALUE=DURATION:PT1H
X-Robots-Tag:noindex
X-PUBLISHED-TTL:PT1H
BEGIN:VTIMEZONE
TZID:Europe/Helsinki
BEGIN:DAYLIGHT
TZOFFSETFROM:+0200
TZOFFSETTO:+0300
TZNAME:EEST
DTSTART:20200329T010000
END:DAYLIGHT
BEGIN:STANDARD
TZOFFSETFROM:+0300
TZOFFSETTO:+0200
TZNAME:EET
DTSTART:20201025T010000
END:STANDARD
BEGIN:DAYLIGHT
TZOFFSETFROM:+0200
TZOFFSETTO:+0300
TZNAME:EEST
DTSTART:20210328T010000
END:DAYLIGHT
BEGIN:STANDARD
TZOFFSETFROM:+0300
TZOFFSETTO:+0200
TZNAME:EET
DTSTART:20211031T010000
END:STANDARD
BEGIN:DAYLIGHT
TZOFFSETFROM:+0200
TZOFFSETTO:+0300
TZNAME:EEST
DTSTART:20220327T010000
END:DAYLIGHT
BEGIN:STANDARD
TZOFFSETFROM:+0300
TZOFFSETTO:+0200
TZNAME:EET
DTSTART:20221030T010000
END:STANDARD
END:VTIMEZONE
BEGIN:VEVENT
DTSTART;TZID=Europe/Helsinki:20210904T080000
DTEND;TZID=Europe/Helsinki:20210904T170000
DTSTAMP:20260426T052818
CREATED:20210823T192656Z
LAST-MODIFIED:20210925T193354Z
UID:13113-1630742400-1630774800@www.slovenskezapasenie.sk
SUMMARY:Majstrovstvá Slovenska juniorov a junioriek volný štýl  (04.09.2021 Nitra)
DESCRIPTION:
URL:https://www.slovenskezapasenie.sk/event/majstrovstva-slovenska-juniorov-a-junioriek-volny-styl-04-09-2021-nitra/
CATEGORIES:Domáce
END:VEVENT
BEGIN:VEVENT
DTSTART;TZID=Europe/Helsinki:20210905T080000
DTEND;TZID=Europe/Helsinki:20210905T170000
DTSTAMP:20260426T052818
CREATED:20210823T192506Z
LAST-MODIFIED:20210908T162549Z
UID:13109-1630828800-1630861200@www.slovenskezapasenie.sk
SUMMARY:Majstrovstvá Slovenska juniorov gréckorímsky štýl  (05.09.2021 Nitra)
DESCRIPTION:
URL:https://www.slovenskezapasenie.sk/event/majstrovstva-slovenska-juniorov-greckorimsky-styl-05-09-2021-nitra/
CATEGORIES:Domáce
END:VEVENT
BEGIN:VEVENT
DTSTART;TZID=Europe/Helsinki:20210909T080000
DTEND;TZID=Europe/Helsinki:20210912T170000
DTSTAMP:20260426T052818
CREATED:20210902T131440Z
LAST-MODIFIED:20210921T145639Z
UID:13128-1631174400-1631466000@www.slovenskezapasenie.sk
SUMMARY:MT-seniorov Minsk
DESCRIPTION:
URL:https://www.slovenskezapasenie.sk/event/mt-seniorov-minsk/
CATEGORIES:Záhraničné
END:VEVENT
BEGIN:VEVENT
DTSTART;TZID=Europe/Helsinki:20210911T080000
DTEND;TZID=Europe/Helsinki:20210911T170000
DTSTAMP:20260426T052818
CREATED:20210907T170328Z
LAST-MODIFIED:20210912T124221Z
UID:13142-1631347200-1631379600@www.slovenskezapasenie.sk
SUMMARY:MAJSTROVSTVÁ SLOVENSKEJ REPUBLIKY  Starších žiakov v zápasení gréckorímskom štýlom (Fiľakovo)
DESCRIPTION:
URL:https://www.slovenskezapasenie.sk/event/majstrovstva-slovenskej-republiky-starsich-ziakov-v-zapaseni-greckorimskom-stylom-filakovo/
CATEGORIES:Domáce
END:VEVENT
BEGIN:VEVENT
DTSTART;TZID=Europe/Helsinki:20210915T080000
DTEND;TZID=Europe/Helsinki:20210915T170000
DTSTAMP:20260426T052818
CREATED:20210913T080953Z
LAST-MODIFIED:20210927T182822Z
UID:13159-1631692800-1631725200@www.slovenskezapasenie.sk
SUMMARY:Ponitriansky pohár (Nitra)
DESCRIPTION:
URL:https://www.slovenskezapasenie.sk/event/ponitriansky-pohar-nitra/
CATEGORIES:Domáce
END:VEVENT
BEGIN:VEVENT
DTSTART;TZID=Europe/Helsinki:20210918T080000
DTEND;TZID=Europe/Helsinki:20210918T170000
DTSTAMP:20260426T052818
CREATED:20210908T075315Z
LAST-MODIFIED:20210919T085951Z
UID:13145-1631952000-1631984400@www.slovenskezapasenie.sk
SUMMARY:MAJSTROVSTVÁ SLOVENSKEJ REPUBLIKY Mladších žiakov v zápasení gréckorímskom štýlom (Rimavská Sobota)
DESCRIPTION:
URL:https://www.slovenskezapasenie.sk/event/majstrovstva-slovenskej-republiky-mladsich-ziakov-v-zapaseni-greckorimskom-stylom-rimavska-sobota/
CATEGORIES:Domáce
END:VEVENT
BEGIN:VEVENT
DTSTART;TZID=Europe/Helsinki:20210925T080000
DTEND;TZID=Europe/Helsinki:20210925T170000
DTSTAMP:20260426T052818
CREATED:20210920T184521Z
LAST-MODIFIED:20210920T184521Z
UID:14578-1632556800-1632589200@www.slovenskezapasenie.sk
SUMMARY:Memoriál Jozefa Svitača (Nitra)
DESCRIPTION:
URL:https://www.slovenskezapasenie.sk/event/memorial-jozefa-svitaca-nitra/
CATEGORIES:Domáce
END:VEVENT
BEGIN:VEVENT
DTSTART;TZID=Europe/Helsinki:20210925T080000
DTEND;TZID=Europe/Helsinki:20210925T170000
DTSTAMP:20260426T052818
CREATED:20211001T085510Z
LAST-MODIFIED:20211001T093059Z
UID:15822-1632556800-1632589200@www.slovenskezapasenie.sk
SUMMARY:ZK Trhová Hradská - Turnaj
DESCRIPTION:
URL:https://www.slovenskezapasenie.sk/event/zk-trhova-hradska-turnaj/
CATEGORIES:Domáce
END:VEVENT
BEGIN:VEVENT
DTSTART;TZID=Europe/Helsinki:20210929T080000
DTEND;TZID=Europe/Helsinki:20210929T170000
DTSTAMP:20260426T052818
CREATED:20211001T093203Z
LAST-MODIFIED:20211001T093203Z
UID:15835-1632902400-1632934800@www.slovenskezapasenie.sk
SUMMARY:Velká cena Komárna gréckorýmským štýlom
DESCRIPTION:
URL:https://www.slovenskezapasenie.sk/event/velka-cena-komarna-greckorymskym-stylom/
CATEGORIES:Domáce
END:VEVENT
END:VCALENDAR