BEGIN:VCALENDAR
VERSION:2.0
PRODID:-//Slovenský zápasnícky zväz - ECPv6.15.16//NONSGML v1.0//EN
CALSCALE:GREGORIAN
METHOD:PUBLISH
X-ORIGINAL-URL:https://www.slovenskezapasenie.sk
X-WR-CALDESC:Udalosti pre Slovenský zápasnícky zväz
REFRESH-INTERVAL;VALUE=DURATION:PT1H
X-Robots-Tag:noindex
X-PUBLISHED-TTL:PT1H
BEGIN:VTIMEZONE
TZID:Europe/Helsinki
BEGIN:DAYLIGHT
TZOFFSETFROM:+0200
TZOFFSETTO:+0300
TZNAME:EEST
DTSTART:20200329T010000
END:DAYLIGHT
BEGIN:STANDARD
TZOFFSETFROM:+0300
TZOFFSETTO:+0200
TZNAME:EET
DTSTART:20201025T010000
END:STANDARD
BEGIN:DAYLIGHT
TZOFFSETFROM:+0200
TZOFFSETTO:+0300
TZNAME:EEST
DTSTART:20210328T010000
END:DAYLIGHT
BEGIN:STANDARD
TZOFFSETFROM:+0300
TZOFFSETTO:+0200
TZNAME:EET
DTSTART:20211031T010000
END:STANDARD
BEGIN:DAYLIGHT
TZOFFSETFROM:+0200
TZOFFSETTO:+0300
TZNAME:EEST
DTSTART:20220327T010000
END:DAYLIGHT
BEGIN:STANDARD
TZOFFSETFROM:+0300
TZOFFSETTO:+0200
TZNAME:EET
DTSTART:20221030T010000
END:STANDARD
END:VTIMEZONE
BEGIN:VEVENT
DTSTART;TZID=Europe/Helsinki:20210731T080000
DTEND;TZID=Europe/Helsinki:20210808T170000
DTSTAMP:20260426T035004
CREATED:20210521T090345Z
LAST-MODIFIED:20210816T141640Z
UID:12916-1627718400-1628442000@www.slovenskezapasenie.sk
SUMMARY:OLYMPIC GAMES (GR/FS/WW) TOKYO (JPN)
DESCRIPTION:Boris Makoev s kvalifikáciou na OH Tokio 2021
URL:https://www.slovenskezapasenie.sk/event/olympic-games-gr-fs-ww-tokyo-jpn/
CATEGORIES:Záhraničné
END:VEVENT
BEGIN:VEVENT
DTSTART;TZID=Europe/Helsinki:20210816T080000
DTEND;TZID=Europe/Helsinki:20210822T170000
DTSTAMP:20260426T035004
CREATED:20210614T080435Z
LAST-MODIFIED:20210823T090109Z
UID:12992-1629100800-1629651600@www.slovenskezapasenie.sk
SUMMARY:JUNIOR WORLD CHAMPIONSHIPS (GR/FS/WW) (RUS)
DESCRIPTION:
URL:https://www.slovenskezapasenie.sk/event/junior-world-championships-gr-fs-ww-rus/
CATEGORIES:Záhraničné
END:VEVENT
BEGIN:VEVENT
DTSTART;TZID=Europe/Helsinki:20210819T080000
DTEND;TZID=Europe/Helsinki:20210819T170000
DTSTAMP:20260426T035004
CREATED:20211001T090006Z
LAST-MODIFIED:20211001T090006Z
UID:15832-1629360000-1629392400@www.slovenskezapasenie.sk
SUMMARY:3.Kolo Majstrovstvá Sniny
DESCRIPTION:
URL:https://www.slovenskezapasenie.sk/event/3-kolo-majstrovstva-sniny/
CATEGORIES:Domáce
END:VEVENT
BEGIN:VEVENT
DTSTART;TZID=Europe/Helsinki:20210828T090000
DTEND;TZID=Europe/Helsinki:20210828T170000
DTSTAMP:20260426T035004
CREATED:20210809T151216Z
LAST-MODIFIED:20210906T090427Z
UID:13077-1630141200-1630170000@www.slovenskezapasenie.sk
SUMMARY:Majstrovstvá Slovenska seniorov gréckorímsky štýl (Dunajská Streda)
DESCRIPTION:
URL:https://www.slovenskezapasenie.sk/event/majstrovstva-slovenska-seniorov-greckorimsky-styl-dunajska-streda/
CATEGORIES:Domáce
ATTACH;FMTTYPE=image/jpeg:https://www.slovenskezapasenie.sk/wp-content/uploads/2021/08/sk-flyer-1-scaled.jpg
END:VEVENT
BEGIN:VEVENT
DTSTART;TZID=Europe/Helsinki:20210829T090000
DTEND;TZID=Europe/Helsinki:20210829T170000
DTSTAMP:20260426T035004
CREATED:20210809T150915Z
LAST-MODIFIED:20210908T162448Z
UID:13072-1630227600-1630256400@www.slovenskezapasenie.sk
SUMMARY:Majstrovstvá Slovenska seniorov a senioriek volný štýl (Dunajská Streda)
DESCRIPTION:
URL:https://www.slovenskezapasenie.sk/event/majstrovstva-slovenska-seniorov-a-senioriek-volny-styl-dunajska-streda/
CATEGORIES:Domáce
ATTACH;FMTTYPE=image/jpeg:https://www.slovenskezapasenie.sk/wp-content/uploads/2021/08/sk-flyer-1-scaled.jpg
END:VEVENT
END:VCALENDAR