BEGIN:VCALENDAR
VERSION:2.0
PRODID:-//Slovenský zápasnícky zväz - ECPv6.15.16//NONSGML v1.0//EN
CALSCALE:GREGORIAN
METHOD:PUBLISH
X-WR-CALNAME:Slovenský zápasnícky zväz
X-ORIGINAL-URL:https://www.slovenskezapasenie.sk
X-WR-CALDESC:Udalosti pre Slovenský zápasnícky zväz
REFRESH-INTERVAL;VALUE=DURATION:PT1H
X-Robots-Tag:noindex
X-PUBLISHED-TTL:PT1H
BEGIN:VTIMEZONE
TZID:Europe/Helsinki
BEGIN:DAYLIGHT
TZOFFSETFROM:+0200
TZOFFSETTO:+0300
TZNAME:EEST
DTSTART:20200329T010000
END:DAYLIGHT
BEGIN:STANDARD
TZOFFSETFROM:+0300
TZOFFSETTO:+0200
TZNAME:EET
DTSTART:20201025T010000
END:STANDARD
BEGIN:DAYLIGHT
TZOFFSETFROM:+0200
TZOFFSETTO:+0300
TZNAME:EEST
DTSTART:20210328T010000
END:DAYLIGHT
BEGIN:STANDARD
TZOFFSETFROM:+0300
TZOFFSETTO:+0200
TZNAME:EET
DTSTART:20211031T010000
END:STANDARD
BEGIN:DAYLIGHT
TZOFFSETFROM:+0200
TZOFFSETTO:+0300
TZNAME:EEST
DTSTART:20220327T010000
END:DAYLIGHT
BEGIN:STANDARD
TZOFFSETFROM:+0300
TZOFFSETTO:+0200
TZNAME:EET
DTSTART:20221030T010000
END:STANDARD
END:VTIMEZONE
BEGIN:VEVENT
DTSTART;TZID=Europe/Helsinki:20210430T080000
DTEND;TZID=Europe/Helsinki:20210502T170000
DTSTAMP:20260425T224209
CREATED:20210413T141657Z
LAST-MODIFIED:20210505T154721Z
UID:12741-1619769600-1619974800@www.slovenskezapasenie.sk
SUMMARY:GRECO ROMAN STYLE AND WOMEN WRESTLING \, CADETS „CROATIA OPEN“
DESCRIPTION:
URL:https://www.slovenskezapasenie.sk/event/greco-roman-style-and-women-wrestling-cadets-croatia-open/
CATEGORIES:Záhraničné
END:VEVENT
BEGIN:VEVENT
DTSTART;TZID=Europe/Helsinki:20210505T080000
DTEND;TZID=Europe/Helsinki:20210509T170000
DTSTAMP:20260425T224209
CREATED:20210413T142029Z
LAST-MODIFIED:20210413T142029Z
UID:12747-1620201600-1620579600@www.slovenskezapasenie.sk
SUMMARY:15th International Tournament "Refik Memišević - Brale" Greco-Roman style for Cadets
DESCRIPTION:
URL:https://www.slovenskezapasenie.sk/event/15th-international-tournament-refik-memisevic-brale-greco-roman-style-for-cadets/
CATEGORIES:Záhraničné
END:VEVENT
BEGIN:VEVENT
DTSTART;TZID=Europe/Helsinki:20210506T080000
DTEND;TZID=Europe/Helsinki:20210509T170000
DTSTAMP:20260425T224209
CREATED:20210406T124141Z
LAST-MODIFIED:20210416T082919Z
UID:12725-1620288000-1620579600@www.slovenskezapasenie.sk
SUMMARY:WORLD OLYMPIC QUALIFYING TOURNAMENT (GR/FS/WW)
DESCRIPTION:
URL:https://www.slovenskezapasenie.sk/event/world-olympic-qualifying-tournament-gr-fs-ww/
CATEGORIES:Záhraničné
END:VEVENT
BEGIN:VEVENT
DTSTART;TZID=Europe/Helsinki:20210510T080000
DTEND;TZID=Europe/Helsinki:20210510T170000
DTSTAMP:20260425T224209
CREATED:20210510T093203Z
LAST-MODIFIED:20210510T093203Z
UID:12876-1620633600-1620666000@www.slovenskezapasenie.sk
SUMMARY:MT-seniorov Ziolkowski Varšava/Poľsko
DESCRIPTION:
URL:https://www.slovenskezapasenie.sk/event/mt-seniorov-ziolkowski-varsava-polsko/
CATEGORIES:Záhraničné
END:VEVENT
BEGIN:VEVENT
DTSTART;TZID=Europe/Helsinki:20210513T080000
DTEND;TZID=Europe/Helsinki:20210516T170000
DTSTAMP:20260425T224209
CREATED:20210517T090539Z
LAST-MODIFIED:20210517T090619Z
UID:12892-1620892800-1621184400@www.slovenskezapasenie.sk
SUMMARY:Constantin Alexandru & Ioan W. Popovici (GR/FS/WW) BUCHAREST
DESCRIPTION:
URL:https://www.slovenskezapasenie.sk/event/constantin-alexandru-ioan-w-popovici-gr-fs-ww-bucharest/
CATEGORIES:Záhraničné
END:VEVENT
BEGIN:VEVENT
DTSTART;TZID=Europe/Helsinki:20210517T080000
DTEND;TZID=Europe/Helsinki:20210523T170000
DTSTAMP:20260425T224209
CREATED:20210409T072445Z
LAST-MODIFIED:20210823T113017Z
UID:12730-1621238400-1621789200@www.slovenskezapasenie.sk
SUMMARY:SENIOR U23 EUROPEAN CHAMPIONSHIPS (WW/FS/GR)
DESCRIPTION:
URL:https://www.slovenskezapasenie.sk/event/senior-u23-european-championships-ww-fs-gr/
CATEGORIES:Záhraničné
END:VEVENT
BEGIN:VEVENT
DTSTART;TZID=Europe/Helsinki:20210527T080000
DTEND;TZID=Europe/Helsinki:20210530T170000
DTSTAMP:20260425T224209
CREATED:20210513T150308Z
LAST-MODIFIED:20210608T075649Z
UID:12888-1622102400-1622394000@www.slovenskezapasenie.sk
SUMMARY:U15 EUROPEAN CHAMPIONSHIPS SOFIA (BUL)
DESCRIPTION:
URL:https://www.slovenskezapasenie.sk/event/u15-european-championships-sofia-bul/
CATEGORIES:Záhraničné
END:VEVENT
BEGIN:VEVENT
DTSTART;TZID=Europe/Helsinki:20210529T080000
DTEND;TZID=Europe/Helsinki:20210529T170000
DTSTAMP:20260425T224209
CREATED:20210525T134518Z
LAST-MODIFIED:20210525T134518Z
UID:12925-1622275200-1622307600@www.slovenskezapasenie.sk
SUMMARY:Black Diamond Cup JUNIOR GRECO-ROMAN WRESTLING TOURNAMENT (Dorog)
DESCRIPTION:
URL:https://www.slovenskezapasenie.sk/event/black-diamond-cup-junior-greco-roman-wrestling-tournament-dorog/
CATEGORIES:Záhraničné
END:VEVENT
END:VCALENDAR