BEGIN:VCALENDAR
VERSION:2.0
PRODID:-//Slovenský zápasnícky zväz - ECPv6.15.16//NONSGML v1.0//EN
CALSCALE:GREGORIAN
METHOD:PUBLISH
X-ORIGINAL-URL:https://www.slovenskezapasenie.sk
X-WR-CALDESC:Udalosti pre Slovenský zápasnícky zväz
REFRESH-INTERVAL;VALUE=DURATION:PT1H
X-Robots-Tag:noindex
X-PUBLISHED-TTL:PT1H
BEGIN:VTIMEZONE
TZID:Europe/Helsinki
BEGIN:DAYLIGHT
TZOFFSETFROM:+0200
TZOFFSETTO:+0300
TZNAME:EEST
DTSTART:20190331T010000
END:DAYLIGHT
BEGIN:STANDARD
TZOFFSETFROM:+0300
TZOFFSETTO:+0200
TZNAME:EET
DTSTART:20191027T010000
END:STANDARD
BEGIN:DAYLIGHT
TZOFFSETFROM:+0200
TZOFFSETTO:+0300
TZNAME:EEST
DTSTART:20200329T010000
END:DAYLIGHT
BEGIN:STANDARD
TZOFFSETFROM:+0300
TZOFFSETTO:+0200
TZNAME:EET
DTSTART:20201025T010000
END:STANDARD
BEGIN:DAYLIGHT
TZOFFSETFROM:+0200
TZOFFSETTO:+0300
TZNAME:EEST
DTSTART:20210328T010000
END:DAYLIGHT
BEGIN:STANDARD
TZOFFSETFROM:+0300
TZOFFSETTO:+0200
TZNAME:EET
DTSTART:20211031T010000
END:STANDARD
END:VTIMEZONE
BEGIN:VEVENT
DTSTART;VALUE=DATE:20200905
DTEND;VALUE=DATE:20200906
DTSTAMP:20260425T145327
CREATED:20200903T193437Z
LAST-MODIFIED:20200909T093941Z
UID:12367-1599264000-1599350399@www.slovenskezapasenie.sk
SUMMARY:Majstrovstvá Slovenska mladších žiakov a žiačok - v.š.
DESCRIPTION:
URL:https://www.slovenskezapasenie.sk/event/majstrovstva-slovenska-mladsich-ziakov-a-ziacok-v-s/
LOCATION:Rimavská Sobota\, Slovakia (Slovak Republic)
CATEGORIES:Domáce
END:VEVENT
BEGIN:VEVENT
DTSTART;TZID=Europe/Helsinki:20200906T083000
DTEND;TZID=Europe/Helsinki:20200906T160000
DTSTAMP:20260425T145327
CREATED:20200903T193820Z
LAST-MODIFIED:20200909T093853Z
UID:12372-1599381000-1599408000@www.slovenskezapasenie.sk
SUMMARY:Valné zhromaždenie SZZ
DESCRIPTION:
URL:https://www.slovenskezapasenie.sk/event/valne-zhromazdenie-szz/
LOCATION:Šamorín\, Slovakia (Slovak Republic)
CATEGORIES:Domáce
END:VEVENT
END:VCALENDAR