BEGIN:VCALENDAR
VERSION:2.0
PRODID:-//Slovenský zápasnícky zväz - ECPv6.15.16//NONSGML v1.0//EN
CALSCALE:GREGORIAN
METHOD:PUBLISH
X-WR-CALNAME:Slovenský zápasnícky zväz
X-ORIGINAL-URL:https://www.slovenskezapasenie.sk
X-WR-CALDESC:Udalosti pre Slovenský zápasnícky zväz
REFRESH-INTERVAL;VALUE=DURATION:PT1H
X-Robots-Tag:noindex
X-PUBLISHED-TTL:PT1H
BEGIN:VTIMEZONE
TZID:Europe/Helsinki
BEGIN:DAYLIGHT
TZOFFSETFROM:+0200
TZOFFSETTO:+0300
TZNAME:EEST
DTSTART:20200329T010000
END:DAYLIGHT
BEGIN:STANDARD
TZOFFSETFROM:+0300
TZOFFSETTO:+0200
TZNAME:EET
DTSTART:20201025T010000
END:STANDARD
BEGIN:DAYLIGHT
TZOFFSETFROM:+0200
TZOFFSETTO:+0300
TZNAME:EEST
DTSTART:20210328T010000
END:DAYLIGHT
BEGIN:STANDARD
TZOFFSETFROM:+0300
TZOFFSETTO:+0200
TZNAME:EET
DTSTART:20211031T010000
END:STANDARD
BEGIN:DAYLIGHT
TZOFFSETFROM:+0200
TZOFFSETTO:+0300
TZNAME:EEST
DTSTART:20220327T010000
END:DAYLIGHT
BEGIN:STANDARD
TZOFFSETFROM:+0300
TZOFFSETTO:+0200
TZNAME:EET
DTSTART:20221030T010000
END:STANDARD
END:VTIMEZONE
BEGIN:VEVENT
DTSTART;TZID=Europe/Helsinki:20210816T080000
DTEND;TZID=Europe/Helsinki:20210822T170000
DTSTAMP:20260426T052712
CREATED:20210614T080435Z
LAST-MODIFIED:20210823T090109Z
UID:12992-1629100800-1629651600@www.slovenskezapasenie.sk
SUMMARY:JUNIOR WORLD CHAMPIONSHIPS (GR/FS/WW) (RUS)
DESCRIPTION:
URL:https://www.slovenskezapasenie.sk/event/junior-world-championships-gr-fs-ww-rus/
CATEGORIES:Záhraničné
END:VEVENT
END:VCALENDAR