BEGIN:VCALENDAR
VERSION:2.0
PRODID:-//Slovenský zápasnícky zväz - ECPv6.15.16//NONSGML v1.0//EN
CALSCALE:GREGORIAN
METHOD:PUBLISH
X-WR-CALNAME:Slovenský zápasnícky zväz
X-ORIGINAL-URL:https://www.slovenskezapasenie.sk
X-WR-CALDESC:Udalosti pre Slovenský zápasnícky zväz
REFRESH-INTERVAL;VALUE=DURATION:PT1H
X-Robots-Tag:noindex
X-PUBLISHED-TTL:PT1H
BEGIN:VTIMEZONE
TZID:Europe/Helsinki
BEGIN:DAYLIGHT
TZOFFSETFROM:+0200
TZOFFSETTO:+0300
TZNAME:EEST
DTSTART:20200329T010000
END:DAYLIGHT
BEGIN:STANDARD
TZOFFSETFROM:+0300
TZOFFSETTO:+0200
TZNAME:EET
DTSTART:20201025T010000
END:STANDARD
BEGIN:DAYLIGHT
TZOFFSETFROM:+0200
TZOFFSETTO:+0300
TZNAME:EEST
DTSTART:20210328T010000
END:DAYLIGHT
BEGIN:STANDARD
TZOFFSETFROM:+0300
TZOFFSETTO:+0200
TZNAME:EET
DTSTART:20211031T010000
END:STANDARD
BEGIN:DAYLIGHT
TZOFFSETFROM:+0200
TZOFFSETTO:+0300
TZNAME:EEST
DTSTART:20220327T010000
END:DAYLIGHT
BEGIN:STANDARD
TZOFFSETFROM:+0300
TZOFFSETTO:+0200
TZNAME:EET
DTSTART:20221030T010000
END:STANDARD
END:VTIMEZONE
BEGIN:VEVENT
DTSTART;TZID=Europe/Helsinki:20210731T080000
DTEND;TZID=Europe/Helsinki:20210808T170000
DTSTAMP:20260426T034951
CREATED:20210521T090345Z
LAST-MODIFIED:20210816T141640Z
UID:12916-1627718400-1628442000@www.slovenskezapasenie.sk
SUMMARY:OLYMPIC GAMES (GR/FS/WW) TOKYO (JPN)
DESCRIPTION:Boris Makoev s kvalifikáciou na OH Tokio 2021
URL:https://www.slovenskezapasenie.sk/event/olympic-games-gr-fs-ww-tokyo-jpn/
CATEGORIES:Záhraničné
END:VEVENT
END:VCALENDAR