BEGIN:VCALENDAR
VERSION:2.0
PRODID:-//Slovenský zápasnícky zväz - ECPv6.15.16//NONSGML v1.0//EN
CALSCALE:GREGORIAN
METHOD:PUBLISH
X-WR-CALNAME:Slovenský zápasnícky zväz
X-ORIGINAL-URL:https://www.slovenskezapasenie.sk
X-WR-CALDESC:Udalosti pre Slovenský zápasnícky zväz
REFRESH-INTERVAL;VALUE=DURATION:PT1H
X-Robots-Tag:noindex
X-PUBLISHED-TTL:PT1H
BEGIN:VTIMEZONE
TZID:Europe/Helsinki
BEGIN:DAYLIGHT
TZOFFSETFROM:+0200
TZOFFSETTO:+0300
TZNAME:EEST
DTSTART:20200329T010000
END:DAYLIGHT
BEGIN:STANDARD
TZOFFSETFROM:+0300
TZOFFSETTO:+0200
TZNAME:EET
DTSTART:20201025T010000
END:STANDARD
BEGIN:DAYLIGHT
TZOFFSETFROM:+0200
TZOFFSETTO:+0300
TZNAME:EEST
DTSTART:20210328T010000
END:DAYLIGHT
BEGIN:STANDARD
TZOFFSETFROM:+0300
TZOFFSETTO:+0200
TZNAME:EET
DTSTART:20211031T010000
END:STANDARD
BEGIN:DAYLIGHT
TZOFFSETFROM:+0200
TZOFFSETTO:+0300
TZNAME:EEST
DTSTART:20220327T010000
END:DAYLIGHT
BEGIN:STANDARD
TZOFFSETFROM:+0300
TZOFFSETTO:+0200
TZNAME:EET
DTSTART:20221030T010000
END:STANDARD
END:VTIMEZONE
BEGIN:VEVENT
DTSTART;TZID=Europe/Helsinki:20210614T080000
DTEND;TZID=Europe/Helsinki:20210620T170000
DTSTAMP:20260426T021554
CREATED:20210521T085444Z
LAST-MODIFIED:20210621T121055Z
UID:12906-1623657600-1624208400@www.slovenskezapasenie.sk
SUMMARY:CADET EUROPEAN CHAMPIONSHIPS (GR/FS/WW) SAMOKOV (BUL)
DESCRIPTION:
URL:https://www.slovenskezapasenie.sk/event/cadet-european-championships-gr-fs-ww-samokov-bul/
CATEGORIES:Záhraničné
END:VEVENT
BEGIN:VEVENT
DTSTART;TZID=Europe/Helsinki:20210619T080000
DTEND;TZID=Europe/Helsinki:20210625T170000
DTSTAMP:20260426T021554
CREATED:20210607T084619Z
LAST-MODIFIED:20210823T113020Z
UID:12951-1624089600-1624640400@www.slovenskezapasenie.sk
SUMMARY:CADET WORLD CHAMPIONSHIPS (GR/FS/WW) (Budapest)
DESCRIPTION:
URL:https://www.slovenskezapasenie.sk/event/cadet-world-championships-gr-fs-ww-budapest/
CATEGORIES:Záhraničné
END:VEVENT
END:VCALENDAR