BEGIN:VCALENDAR
VERSION:2.0
PRODID:-//Slovenský zápasnícky zväz - ECPv6.15.16//NONSGML v1.0//EN
CALSCALE:GREGORIAN
METHOD:PUBLISH
X-WR-CALNAME:Slovenský zápasnícky zväz
X-ORIGINAL-URL:https://www.slovenskezapasenie.sk
X-WR-CALDESC:Udalosti pre Slovenský zápasnícky zväz
REFRESH-INTERVAL;VALUE=DURATION:PT1H
X-Robots-Tag:noindex
X-PUBLISHED-TTL:PT1H
BEGIN:VTIMEZONE
TZID:Europe/Helsinki
BEGIN:DAYLIGHT
TZOFFSETFROM:+0200
TZOFFSETTO:+0300
TZNAME:EEST
DTSTART:20200329T010000
END:DAYLIGHT
BEGIN:STANDARD
TZOFFSETFROM:+0300
TZOFFSETTO:+0200
TZNAME:EET
DTSTART:20201025T010000
END:STANDARD
BEGIN:DAYLIGHT
TZOFFSETFROM:+0200
TZOFFSETTO:+0300
TZNAME:EEST
DTSTART:20210328T010000
END:DAYLIGHT
BEGIN:STANDARD
TZOFFSETFROM:+0300
TZOFFSETTO:+0200
TZNAME:EET
DTSTART:20211031T010000
END:STANDARD
BEGIN:DAYLIGHT
TZOFFSETFROM:+0200
TZOFFSETTO:+0300
TZNAME:EEST
DTSTART:20220327T010000
END:DAYLIGHT
BEGIN:STANDARD
TZOFFSETFROM:+0300
TZOFFSETTO:+0200
TZNAME:EET
DTSTART:20221030T010000
END:STANDARD
END:VTIMEZONE
BEGIN:VEVENT
DTSTART;TZID=Europe/Helsinki:20210603T080000
DTEND;TZID=Europe/Helsinki:20210606T170000
DTSTAMP:20260426T003033
CREATED:20210525T134111Z
LAST-MODIFIED:20210607T072955Z
UID:12919-1622707200-1622998800@www.slovenskezapasenie.sk
SUMMARY:Dumitru Pirvulescu & Vasile Iorga (GR/FS/WW) BUCHAREST (ROU)
DESCRIPTION:
URL:https://www.slovenskezapasenie.sk/event/dumitru-pirvulescu-vasile-iorga-gr-fs-ww-bucharest-rou-2/
CATEGORIES:Záhraničné
END:VEVENT
BEGIN:VEVENT
DTSTART;TZID=Europe/Helsinki:20210606T080000
DTEND;TZID=Europe/Helsinki:20210606T170000
DTSTAMP:20260426T003033
CREATED:20210528T090326Z
LAST-MODIFIED:20210609T063154Z
UID:12935-1622966400-1622998800@www.slovenskezapasenie.sk
SUMMARY:MSR Kadetov v zápasení gréckorímskom štýlom (Snina)
DESCRIPTION:
URL:https://www.slovenskezapasenie.sk/event/msr-kadetov-v-zapaseni-greckorimskom-stylom-snina/
CATEGORIES:Domáce
END:VEVENT
END:VCALENDAR